BEGIN:VCALENDAR
VERSION:2.0
PRODID:-//Musselman High School Choir - ECPv6.1.3//NONSGML v1.0//EN
CALSCALE:GREGORIAN
METHOD:PUBLISH
X-WR-CALNAME:Musselman High School Choir
X-ORIGINAL-URL:https://muhschoirs.com
X-WR-CALDESC:Events for Musselman High School Choir
REFRESH-INTERVAL;VALUE=DURATION:PT1H
X-Robots-Tag:noindex
X-PUBLISHED-TTL:PT1H
BEGIN:VTIMEZONE
TZID:America/New_York
BEGIN:DAYLIGHT
TZOFFSETFROM:-0500
TZOFFSETTO:-0400
TZNAME:EDT
DTSTART:20210314T070000
END:DAYLIGHT
BEGIN:STANDARD
TZOFFSETFROM:-0400
TZOFFSETTO:-0500
TZNAME:EST
DTSTART:20211107T060000
END:STANDARD
END:VTIMEZONE
BEGIN:VEVENT
DTSTART;TZID=America/New_York:20211002T000000
DTEND;TZID=America/New_York:20211002T235959
DTSTAMP:20260423T172015
CREATED:20211027T144509Z
LAST-MODIFIED:20211027T145253Z
UID:186-1633132800-1633219199@muhschoirs.com
SUMMARY:Band Competition - Allegany High School
DESCRIPTION:
URL:https://muhschoirs.com/event/band-competition-allegany-high-school/
LOCATION:Fort Hill High School\, 500 Greenway Ave\, Cumberland\, Maryland\, 21502\, United States
CATEGORIES:Performances
END:VEVENT
END:VCALENDAR