BEGIN:VCALENDAR
VERSION:2.0
PRODID:-//Musselman High School Choir - ECPv6.1.3//NONSGML v1.0//EN
CALSCALE:GREGORIAN
METHOD:PUBLISH
X-WR-CALNAME:Musselman High School Choir
X-ORIGINAL-URL:https://muhschoirs.com
X-WR-CALDESC:Events for Musselman High School Choir
REFRESH-INTERVAL;VALUE=DURATION:PT1H
X-Robots-Tag:noindex
X-PUBLISHED-TTL:PT1H
BEGIN:VTIMEZONE
TZID:America/New_York
BEGIN:DAYLIGHT
TZOFFSETFROM:-0500
TZOFFSETTO:-0400
TZNAME:EDT
DTSTART:20190310T070000
END:DAYLIGHT
BEGIN:STANDARD
TZOFFSETFROM:-0400
TZOFFSETTO:-0500
TZNAME:EST
DTSTART:20191103T060000
END:STANDARD
END:VTIMEZONE
BEGIN:VEVENT
DTSTART;TZID=America/New_York:20191203T180000
DTEND;TZID=America/New_York:20191203T200000
DTSTAMP:20260425T063236
CREATED:20191104T152223Z
LAST-MODIFIED:20191104T152224Z
UID:104-1575396000-1575403200@muhschoirs.com
SUMMARY:Winter Choral Concert
DESCRIPTION:All of the Musselman High School choirs will perform at this winter concert.
URL:https://muhschoirs.com/event/winter-choral-concert/
LOCATION:Musselman High School\, 126 Excellence Way\, Inwood\, WV\, 25420\, United States
CATEGORIES:Performances
END:VEVENT
END:VCALENDAR