BEGIN:VCALENDAR
VERSION:2.0
PRODID:-//Musselman High School Choir - ECPv6.1.3//NONSGML v1.0//EN
CALSCALE:GREGORIAN
METHOD:PUBLISH
X-WR-CALNAME:Musselman High School Choir
X-ORIGINAL-URL:https://muhschoirs.com
X-WR-CALDESC:Events for Musselman High School Choir
REFRESH-INTERVAL;VALUE=DURATION:PT1H
X-Robots-Tag:noindex
X-PUBLISHED-TTL:PT1H
BEGIN:VTIMEZONE
TZID:America/New_York
BEGIN:DAYLIGHT
TZOFFSETFROM:-0500
TZOFFSETTO:-0400
TZNAME:EDT
DTSTART:20210314T070000
END:DAYLIGHT
BEGIN:STANDARD
TZOFFSETFROM:-0400
TZOFFSETTO:-0500
TZNAME:EST
DTSTART:20211107T060000
END:STANDARD
END:VTIMEZONE
BEGIN:VEVENT
DTSTART;TZID=America/New_York:20211002T000000
DTEND;TZID=America/New_York:20211002T235959
DTSTAMP:20260423T153345
CREATED:20211027T144509Z
LAST-MODIFIED:20211027T145253Z
UID:186-1633132800-1633219199@muhschoirs.com
SUMMARY:Band Competition - Allegany High School
DESCRIPTION:
URL:https://muhschoirs.com/event/band-competition-allegany-high-school/
LOCATION:Fort Hill High School\, 500 Greenway Ave\, Cumberland\, Maryland\, 21502\, United States
CATEGORIES:Performances
END:VEVENT
BEGIN:VEVENT
DTSTART;TZID=America/New_York:20211009T000000
DTEND;TZID=America/New_York:20211009T235959
DTSTAMP:20260423T153345
CREATED:20211027T144638Z
LAST-MODIFIED:20211027T145237Z
UID:190-1633737600-1633823999@muhschoirs.com
SUMMARY:Band Competition - Martinsburg High School
DESCRIPTION:
URL:https://muhschoirs.com/event/band-competition-martinsburg-high-school/
LOCATION:Martinsburg High School\, 701 S. Queen St\, Martinsburg\, West Virginia\, 25401\, United States
CATEGORIES:Performances
END:VEVENT
BEGIN:VEVENT
DTSTART;TZID=America/New_York:20211016T000000
DTEND;TZID=America/New_York:20211016T235959
DTSTAMP:20260423T153345
CREATED:20211027T145208Z
LAST-MODIFIED:20211027T145209Z
UID:192-1634342400-1634428799@muhschoirs.com
SUMMARY:Big Apple Tournament of Bands
DESCRIPTION:
URL:https://muhschoirs.com/event/big-apple-tournament-of-bands/
LOCATION:Musselman High School\, 126 Excellence Way\, Inwood\, WV\, 25420\, United States
CATEGORIES:Performances
ATTACH;FMTTYPE=image/jpeg:https://muhschoirs.com/wp-content/uploads/2021/10/2020-Show-Shirt1.jpg
END:VEVENT
BEGIN:VEVENT
DTSTART;TZID=America/New_York:20211023T000000
DTEND;TZID=America/New_York:20211023T235959
DTSTAMP:20260423T153345
CREATED:20211027T145549Z
LAST-MODIFIED:20211027T145550Z
UID:195-1634947200-1635033599@muhschoirs.com
SUMMARY:Region Championship
DESCRIPTION:
URL:https://muhschoirs.com/event/region-championship/
LOCATION:Spring Mills High School\, 499 Campus Dr\, Martinsburg\, West Virginia\, 25404\, United States
CATEGORIES:Performances
ATTACH;FMTTYPE=image/jpeg:https://muhschoirs.com/wp-content/uploads/2021/10/smhs-band-2021_orig1.jpg
END:VEVENT
BEGIN:VEVENT
DTSTART;TZID=America/New_York:20211030T000000
DTEND;TZID=America/New_York:20211030T235959
DTSTAMP:20260423T153345
CREATED:20211027T150621Z
LAST-MODIFIED:20211027T150622Z
UID:200-1635552000-1635638399@muhschoirs.com
SUMMARY:Horseshoe Classic & Governor's Cup Final
DESCRIPTION:
URL:https://muhschoirs.com/event/horseshoe-classic-governors-cup-final/
LOCATION:Philip Barbour High School\, 99 Horseshoe Drive\, Philippi\, West Virginia\, 26416\, United States
CATEGORIES:Performances
ATTACH;FMTTYPE=image/jpeg:https://muhschoirs.com/wp-content/uploads/2021/10/website11.jpg
END:VEVENT
END:VCALENDAR