BEGIN:VCALENDAR
VERSION:2.0
PRODID:-//Musselman High School Choir - ECPv6.1.3//NONSGML v1.0//EN
CALSCALE:GREGORIAN
METHOD:PUBLISH
X-WR-CALNAME:Musselman High School Choir
X-ORIGINAL-URL:https://muhschoirs.com
X-WR-CALDESC:Events for Musselman High School Choir
REFRESH-INTERVAL;VALUE=DURATION:PT1H
X-Robots-Tag:noindex
X-PUBLISHED-TTL:PT1H
BEGIN:VTIMEZONE
TZID:America/New_York
BEGIN:DAYLIGHT
TZOFFSETFROM:-0500
TZOFFSETTO:-0400
TZNAME:EDT
DTSTART:20200308T070000
END:DAYLIGHT
BEGIN:STANDARD
TZOFFSETFROM:-0400
TZOFFSETTO:-0500
TZNAME:EST
DTSTART:20201101T060000
END:STANDARD
END:VTIMEZONE
BEGIN:VEVENT
DTSTART;TZID=America/New_York:20200321T083000
DTEND;TZID=America/New_York:20200321T230000
DTSTAMP:20260424T231247
CREATED:20200201T174035Z
LAST-MODIFIED:20200201T174807Z
UID:149-1584779400-1584831600@muhschoirs.com
SUMMARY:Martinsburg Choir Competition
DESCRIPTION:
URL:https://muhschoirs.com/event/martinsburg-choir-competition/
LOCATION:Martinsburg High School\, 701 S. Queen St\, Martinsburg\, West Virginia\, 25401\, United States
CATEGORIES:Performances
END:VEVENT
BEGIN:VEVENT
DTSTART;TZID=America/New_York:20200328T080000
DTEND;TZID=America/New_York:20200328T230000
DTSTAMP:20260424T231247
CREATED:20200201T174751Z
LAST-MODIFIED:20200201T174752Z
UID:158-1585382400-1585436400@muhschoirs.com
SUMMARY:WV State Show Choir Competition
DESCRIPTION:Kaleidoscope Show Choir will travel to Morgantown\, WV to perform at the WV State Show Choir Competition against many other choirs in the state.
URL:https://muhschoirs.com/event/wv-state-show-choir-competition/
LOCATION:Morgantown High School\, 109 Wilson Avenue\, Morgantown\, West Virginia\, 26501\, United States
CATEGORIES:Performances
END:VEVENT
END:VCALENDAR