BEGIN:VCALENDAR
VERSION:2.0
PRODID:-//Musselman High School Choir - ECPv6.1.3//NONSGML v1.0//EN
CALSCALE:GREGORIAN
METHOD:PUBLISH
X-WR-CALNAME:Musselman High School Choir
X-ORIGINAL-URL:https://muhschoirs.com
X-WR-CALDESC:Events for Musselman High School Choir
REFRESH-INTERVAL;VALUE=DURATION:PT1H
X-Robots-Tag:noindex
X-PUBLISHED-TTL:PT1H
BEGIN:VTIMEZONE
TZID:America/New_York
BEGIN:DAYLIGHT
TZOFFSETFROM:-0500
TZOFFSETTO:-0400
TZNAME:EDT
DTSTART:20210314T070000
END:DAYLIGHT
BEGIN:STANDARD
TZOFFSETFROM:-0400
TZOFFSETTO:-0500
TZNAME:EST
DTSTART:20211107T060000
END:STANDARD
END:VTIMEZONE
BEGIN:VEVENT
DTSTART;TZID=America/New_York:20211205T143000
DTEND;TZID=America/New_York:20211205T160000
DTSTAMP:20260423T053800
CREATED:20211027T153515Z
LAST-MODIFIED:20211027T153516Z
UID:216-1638714600-1638720000@muhschoirs.com
SUMMARY:South Berkeley Christmas Parade
DESCRIPTION:The A-Team will be performing in the parade with the Marching Applemen. We will also be selling apple cider\, handmade chocolates\, and homemade pepperoni rolls to help raise money for the choirs.
URL:https://muhschoirs.com/event/south-berkeley-christmas-parade/
LOCATION:Musselman High School\, 126 Excellence Way\, Inwood\, WV\, 25420\, United States
CATEGORIES:Fundraisers,Performances
ATTACH;FMTTYPE=image/jpeg:https://muhschoirs.com/wp-content/uploads/2021/10/22730044_1444311688951894_5115811010024570623_n1.jpg
END:VEVENT
END:VCALENDAR